BEGIN:VCALENDAR
VERSION:2.0
PRODID:-//Deutsch-Finnische Gesellschaft - Westfalen-Lippe e.V. - ECPv6.15.20//NONSGML v1.0//EN
CALSCALE:GREGORIAN
METHOD:PUBLISH
X-ORIGINAL-URL:https://www.dfg-westfalen-lippe.de
X-WR-CALDESC:Veranstaltungen für Deutsch-Finnische Gesellschaft - Westfalen-Lippe e.V.
REFRESH-INTERVAL;VALUE=DURATION:PT1H
X-Robots-Tag:noindex
X-PUBLISHED-TTL:PT1H
BEGIN:VTIMEZONE
TZID:Europe/Berlin
BEGIN:DAYLIGHT
TZOFFSETFROM:+0100
TZOFFSETTO:+0200
TZNAME:CEST
DTSTART:20230326T010000
END:DAYLIGHT
BEGIN:STANDARD
TZOFFSETFROM:+0200
TZOFFSETTO:+0100
TZNAME:CET
DTSTART:20231029T010000
END:STANDARD
BEGIN:DAYLIGHT
TZOFFSETFROM:+0100
TZOFFSETTO:+0200
TZNAME:CEST
DTSTART:20240331T010000
END:DAYLIGHT
BEGIN:STANDARD
TZOFFSETFROM:+0200
TZOFFSETTO:+0100
TZNAME:CET
DTSTART:20241027T010000
END:STANDARD
BEGIN:DAYLIGHT
TZOFFSETFROM:+0100
TZOFFSETTO:+0200
TZNAME:CEST
DTSTART:20250330T010000
END:DAYLIGHT
BEGIN:STANDARD
TZOFFSETFROM:+0200
TZOFFSETTO:+0100
TZNAME:CET
DTSTART:20251026T010000
END:STANDARD
BEGIN:DAYLIGHT
TZOFFSETFROM:+0100
TZOFFSETTO:+0200
TZNAME:CEST
DTSTART:20260329T010000
END:DAYLIGHT
BEGIN:STANDARD
TZOFFSETFROM:+0200
TZOFFSETTO:+0100
TZNAME:CET
DTSTART:20261025T010000
END:STANDARD
END:VTIMEZONE
BEGIN:VEVENT
DTSTART;VALUE=DATE:20240428
DTEND;VALUE=DATE:20250616
DTSTAMP:20260422T122026
CREATED:20240623T160826Z
LAST-MODIFIED:20250203T154914Z
UID:403-1714262400-1750031999@www.dfg-westfalen-lippe.de
SUMMARY:Ausstellung LWL Industriemuseum Glashütte Gernheim
DESCRIPTION:Neptuna (Copyright © Ella Tommila) \nStill Life\nGlas\, Design und Kunst von Nanny Still\n28.4.2024 – 26.1.2025 \n\nGlaswaren von Nanny Still (1926 – 2009) sind bei Sammlerinnen und Sammlern begehrt. Aus der Zusammenarbeit Stills mit der Glashütte Riihimäki\, dem Porzellanhersteller Rosenthal oder dem Besteckhersteller Hackman gingen viele zeitlose Klassiker hervor. Die in Kooperation mit dem Finnischen Glasmuseum Riihimäki (Soumen Lasimuseo) entstandene Ausstellung zeigt Arbeiten der Designerin aus den Jahren 1950er bis frühen 2000er Jahren.
URL:https://www.dfg-westfalen-lippe.de/event/ausstellung-lwl-industriemuseum-glashuette-gernheim/
LOCATION:Petershagen: LWL-Museum Glashütte Gernheim\, Gernheim 12\, Petershagen\, 32469
ATTACH;FMTTYPE=image/jpeg:https://www.dfg-westfalen-lippe.de/wp-content/uploads/2024/06/nanny_still_serie__neptuna_ella_tommila-slm.jpg__1920x920_q90_crop_subsampling-2_upscale.jpg
END:VEVENT
BEGIN:VEVENT
DTSTART;TZID=Europe/Berlin:20240906T190000
DTEND;TZID=Europe/Berlin:20240906T210000
DTSTAMP:20260422T122026
CREATED:20240604T142730Z
LAST-MODIFIED:20240818T125759Z
UID:294-1725649200-1725656400@www.dfg-westfalen-lippe.de
SUMMARY:Konzert mit Pauline & Aleksi in Bünde
DESCRIPTION:Pauline & Aleksi ist ein deutsch-finnisches Gesangs- und Gitarrenduo aus Tübingen und Helsinki. Zusammen schreiben sie Stücke\, die ein spannungsvolles Repertoire aus den musikalischen Wurzeln der beiden Musiker formen – western vintage & nordic melancholy. \nNachdem sie im vergangenen Jahr ihr erstes gemeinsames Album hervor brachten\, präsentieren sie jetzt auch neue Songs\, die während einer Reise entstanden und auch auf ihrer neuen EP zu hören sind. Den Klangfarben ihrer Stücke sind dabei keine Grenzen gesetzt und instrumentale Stücke\, die Aspekte der klassischen Gitarre andeuten\, werden durch Songs mit einer unvergesslichen Jazz&Soul-Stimme kombiniert.\nDie ausdrucksstarke Stimme von Pauline Ruhe hat ihre Wurzeln in der Jazzmusik. Auf der Suche nach anderen Musikfarben\, schloss sie sich experimentellen Band Projekten an\, wobei sie auf Aleksi Rajala\, einen mehrfach international ausgezeichneten klassischen Gitarristen und Komponisten aus Helsinki traf. Er studierte Musik an der Sibelius-Akademie in Helsinki und an der Hochschule für Musik und Theater München. Sofort entdeckten sie\, dass aus ihrer Zusammenarbeit neue Kombinationen\naus erstaunlichen Fingerstyle-Gitarren Arrangements und außergewöhnlichen Melodien entstehen. Diese Fusion gibt dem Album den letzten Schliff und macht es zu einem Werk\, das tief in die Seele geht. \nEinlass: 18:30 Uhr\nKonzertbeginn: 19:00\nDer Eintritt ist frei.
URL:https://www.dfg-westfalen-lippe.de/event/aleksi-und-pauline/
LOCATION:Bünde: Musikschule der Stadt Bünde\, Amtshausplatz 1\, Bünde\, 32257
CATEGORIES:Kultur-Event (DFG Veranstaltung)
ATTACH;FMTTYPE=image/jpeg:https://www.dfg-westfalen-lippe.de/wp-content/uploads/2024/06/2024-09-06_PaulineAleksi.jpg
END:VEVENT
END:VCALENDAR