BEGIN:VCALENDAR
VERSION:2.0
PRODID:-//Deutsch-Finnische Gesellschaft - Westfalen-Lippe e.V. - ECPv6.15.20//NONSGML v1.0//EN
CALSCALE:GREGORIAN
METHOD:PUBLISH
X-ORIGINAL-URL:https://www.dfg-westfalen-lippe.de
X-WR-CALDESC:Veranstaltungen für Deutsch-Finnische Gesellschaft - Westfalen-Lippe e.V.
REFRESH-INTERVAL;VALUE=DURATION:PT1H
X-Robots-Tag:noindex
X-PUBLISHED-TTL:PT1H
BEGIN:VTIMEZONE
TZID:Europe/Berlin
BEGIN:DAYLIGHT
TZOFFSETFROM:+0100
TZOFFSETTO:+0200
TZNAME:CEST
DTSTART:20250330T010000
END:DAYLIGHT
BEGIN:STANDARD
TZOFFSETFROM:+0200
TZOFFSETTO:+0100
TZNAME:CET
DTSTART:20251026T010000
END:STANDARD
BEGIN:DAYLIGHT
TZOFFSETFROM:+0100
TZOFFSETTO:+0200
TZNAME:CEST
DTSTART:20260329T010000
END:DAYLIGHT
BEGIN:STANDARD
TZOFFSETFROM:+0200
TZOFFSETTO:+0100
TZNAME:CET
DTSTART:20261025T010000
END:STANDARD
BEGIN:DAYLIGHT
TZOFFSETFROM:+0100
TZOFFSETTO:+0200
TZNAME:CEST
DTSTART:20270328T010000
END:DAYLIGHT
BEGIN:STANDARD
TZOFFSETFROM:+0200
TZOFFSETTO:+0100
TZNAME:CET
DTSTART:20271031T010000
END:STANDARD
END:VTIMEZONE
BEGIN:VEVENT
DTSTART;TZID=Europe/Berlin:20260516T190000
DTEND;TZID=Europe/Berlin:20260516T190000
DTSTAMP:20260421T202627
CREATED:20251114T163726Z
LAST-MODIFIED:20260215T073856Z
UID:629-1778958000-1778958000@www.dfg-westfalen-lippe.de
SUMMARY:Konzert mit der Gruppe Thalamus in Bünde
DESCRIPTION:Seit über zwei Jahrzehnten bereichert die Band Thalamus die finnische Folk-Szene\, wobei sich das Quartett ein sehr breit gefächertes Repertoire erarbeitet hat. Traditionelle Stücke treffen auf eigene Kompositionen\, in denen Einflüsse anderer europäischer Regionen\, Nordamerika und sogar Nordafrika anklingen – kein Wunder also\, dass sie ihren Stil als „Nordic Folk Music with global twist“ bezeichnen. Weil sie auch viel Wert auf frische\, überraschende Arrangements legen\, ist bei ihnen auch ein alter Song schlichtweg Thalamus-Musik. \nIm Sommer 2018 veröffentlichte die Band ihre erste lange CD. Nach einer EP 2001 hatte die Band zunächst pausiert zwecks Studium etc.\, danach kam es zu personellen Wechseln. Jetzt wollen Thalamus nochmals richtig durchstarten: Sie spielen jedes Jahr auf diversen europäischen Festivals\, nun wird es Zeit für das Quartett\, endlich auf Deutschland-Tour für die DFG zu gehen! \nThalamus spielen „klassischen“ finnischen Folk mit interessantem Sound und eigenen Stücken. \nDie Band wird auf dem Frühlingsfest der Stadt Bünde auf der Bühne auf dem Tönnies-Wellensiek-Platz ab 19:00 Uhr auftreten. Schauen Sie einfach vorbei und genießen die Open-Air Atmosphäre.
URL:https://www.dfg-westfalen-lippe.de/event/konzert-mit-der-gruppe-thalamus-in-buende/
LOCATION:Bünde: Frühlingsfest Innenstadt\, Eschstraße\, Bünde\, 32257\, Germany
CATEGORIES:Kultur-Event (DFG Veranstaltung)
ATTACH;FMTTYPE=image/jpeg:https://www.dfg-westfalen-lippe.de/wp-content/uploads/2025/11/FolkBandThalamus@Jimmy-Traeskelin-scaled.jpg
END:VEVENT
END:VCALENDAR