BEGIN:VCALENDAR
VERSION:2.0
PRODID:-//Deutsch-Finnische Gesellschaft - Westfalen-Lippe e.V. - ECPv6.15.20//NONSGML v1.0//EN
CALSCALE:GREGORIAN
METHOD:PUBLISH
X-WR-CALNAME:Deutsch-Finnische Gesellschaft - Westfalen-Lippe e.V.
X-ORIGINAL-URL:https://www.dfg-westfalen-lippe.de
X-WR-CALDESC:Veranstaltungen für Deutsch-Finnische Gesellschaft - Westfalen-Lippe e.V.
REFRESH-INTERVAL;VALUE=DURATION:PT1H
X-Robots-Tag:noindex
X-PUBLISHED-TTL:PT1H
BEGIN:VTIMEZONE
TZID:Europe/Berlin
BEGIN:DAYLIGHT
TZOFFSETFROM:+0100
TZOFFSETTO:+0200
TZNAME:CEST
DTSTART:20250330T010000
END:DAYLIGHT
BEGIN:STANDARD
TZOFFSETFROM:+0200
TZOFFSETTO:+0100
TZNAME:CET
DTSTART:20251026T010000
END:STANDARD
BEGIN:DAYLIGHT
TZOFFSETFROM:+0100
TZOFFSETTO:+0200
TZNAME:CEST
DTSTART:20260329T010000
END:DAYLIGHT
BEGIN:STANDARD
TZOFFSETFROM:+0200
TZOFFSETTO:+0100
TZNAME:CET
DTSTART:20261025T010000
END:STANDARD
BEGIN:DAYLIGHT
TZOFFSETFROM:+0100
TZOFFSETTO:+0200
TZNAME:CEST
DTSTART:20270328T010000
END:DAYLIGHT
BEGIN:STANDARD
TZOFFSETFROM:+0200
TZOFFSETTO:+0100
TZNAME:CET
DTSTART:20271031T010000
END:STANDARD
END:VTIMEZONE
BEGIN:VEVENT
DTSTART;TZID=Europe/Berlin:20260906T140000
DTEND;TZID=Europe/Berlin:20260906T235900
DTSTAMP:20260422T013215
CREATED:20260414T102105Z
LAST-MODIFIED:20260414T103721Z
UID:698-1788703200-1788739140@www.dfg-westfalen-lippe.de
SUMMARY:Kleines Finnisches Film-Fest
DESCRIPTION:Ich muss Euch unbedingt was erzählen\, liebe Kino-Freundinnen und -Freunde!\nIch bin ganz aufgeregt: Endlich darf ich’s erzählen! Denn das\, was unser irre kreatives Team in den vergangenen Wochen für Euch ausgeheckt hat\, ist derart außergewöhnlich. \nUnd Ihr seid die Ersten\, die es hier und heute erfahren! Am Sonntag\, 6. September feiern wir einen ganzen Tag lang „Bernd Giesekings Finnland Film Fest“. \nDass der Mindener Kabarettist und Autor leidenschaftlicher Cineast ist\, dürfte spätestens seit seinem Kino-Grußwort klar sein\, für das er neulich spontan auf unsere Bühne kraxelte (hier zu sehen). \nWeitaus bekannter ist Gieseking in Deutschland aber als saunaechter waschechter Finnland-Experte. In mittlerweile drei Büchern hat er uns aus dem Land im hohen Norden Europas berichtet. \nEinen Tag lang\, von Mittag bis Mitternacht: finnische Filme erleben mit Bernd Gieseking\nFinnland und Filme – aus diesem „FiFi“ ist die Idee entstanden zu einem großen finnischen Film-Event: einen Tag lang Filme aus Finnland. \nAllesamt ausgewählt und kuratiert\, allesamt anmoderiert und kommentiert von Bernd Gieseking live auf unserer kleinen Kino-Bühne. \nDas gab’s noch nie! \nMein Bauchgefühl sagt mir: Unsere kleiner Kino-Saal wird voller heiterer Laune und fröhlichem Lachen sein\, wenn Gieseking in seiner unvergleichlichen Art über die Filme spricht und uns an seinen Finnland-Erfahrungen teilhaben lässt. \nLos geht’s um 14:00 Uhr am 06.09. – und dann im Zweistundentakt weiter bis Mitternacht. Insgesamt fünf Filme. \nAm genauen Programm stricken wir noch. Aber drei Filme stehen schon fest: Der Helsinki Effekt\, ein satirisch angehauchter Dokumentarfilm des finnischen Regisseurs Arthur Franck. Zweitens Der Mann ohne Vergangenheit\, eine preisgekrönte Tragikomödie von Aki Kaurismäki. Und dann\, wahrscheinlich als Schlussfilm: Total Balalaika Show\, ein Musikfilm mit der legendären finnischen Band Leningrad Cowboys. Die beiden weiteren Filme verrate ich\, sobald sie feststehen. \nFestivaltickets für den gesamten Finnland-Tag: aber nur 24 Stück!\nJeden der fünf Filme könnt Ihr natürlich einzeln besuchen. Aber für alle\, die Lust haben auf das volle Finnland-Paket mit Bernd Gieseking\, gibt es hier und heute Festival-Tickets zum einmaligen Sparpreis: Ein Ticket – gültig für den gesamten Tag und für alle fünf Filme: gerade mal 20 Euro (das sind ganze 50 Prozent Ersparnis gegenüber fünf regulären Tickets zu je acht Euro). \nAber Achtung: Die Festival-Tickets sind streng limitiert auf exakt zwei Dutzend. Das heißt 24 Festival-Tickets – keines mehr. Wenn weg\, dann weg. Und deshalb gibt es den Link zu den Festival-Tickets exklusiv vorab nur für Euch und nur hier im Newsletter.
URL:https://www.dfg-westfalen-lippe.de/event/finnischer-film-abend/
LOCATION:VHS Minden (Kleines Theater am Weinberg)\, Königswall 97\, Minden
ATTACH;FMTTYPE=:
END:VEVENT
END:VCALENDAR