BEGIN:VCALENDAR
VERSION:2.0
PRODID:-//Deutsch-Finnische Gesellschaft - Westfalen-Lippe e.V. - ECPv6.15.20//NONSGML v1.0//EN
CALSCALE:GREGORIAN
METHOD:PUBLISH
X-WR-CALNAME:Deutsch-Finnische Gesellschaft - Westfalen-Lippe e.V.
X-ORIGINAL-URL:https://www.dfg-westfalen-lippe.de
X-WR-CALDESC:Veranstaltungen für Deutsch-Finnische Gesellschaft - Westfalen-Lippe e.V.
REFRESH-INTERVAL;VALUE=DURATION:PT1H
X-Robots-Tag:noindex
X-PUBLISHED-TTL:PT1H
BEGIN:VTIMEZONE
TZID:Europe/Berlin
BEGIN:DAYLIGHT
TZOFFSETFROM:+0100
TZOFFSETTO:+0200
TZNAME:CEST
DTSTART:20240331T010000
END:DAYLIGHT
BEGIN:STANDARD
TZOFFSETFROM:+0200
TZOFFSETTO:+0100
TZNAME:CET
DTSTART:20241027T010000
END:STANDARD
BEGIN:DAYLIGHT
TZOFFSETFROM:+0100
TZOFFSETTO:+0200
TZNAME:CEST
DTSTART:20250330T010000
END:DAYLIGHT
BEGIN:STANDARD
TZOFFSETFROM:+0200
TZOFFSETTO:+0100
TZNAME:CET
DTSTART:20251026T010000
END:STANDARD
BEGIN:DAYLIGHT
TZOFFSETFROM:+0100
TZOFFSETTO:+0200
TZNAME:CEST
DTSTART:20260329T010000
END:DAYLIGHT
BEGIN:STANDARD
TZOFFSETFROM:+0200
TZOFFSETTO:+0100
TZNAME:CET
DTSTART:20261025T010000
END:STANDARD
END:VTIMEZONE
BEGIN:VEVENT
DTSTART;TZID=Europe/Berlin:20250905T210000
DTEND;TZID=Europe/Berlin:20250905T230000
DTSTAMP:20260422T043255
CREATED:20240701T183717Z
LAST-MODIFIED:20250823T095345Z
UID:477-1757106000-1757113200@www.dfg-westfalen-lippe.de
SUMMARY:Konzert mit dem Trio SOLE AZUL in Bünde
DESCRIPTION:Pauli Lyytinen: Saxofon\,\nHarri Kuusijärvi: Akkordeon\,\nEero Tikkanen: Kontrabass \nSole Azul reißt den Tango an den Wurzeln aus und pflanzt ihn in den nordischen Frostboden. Die Gruppe greift auf die Stilistik des Jazz zurück und spielt sowohl vom Tango inspirierte Originale als auch neue Arrangements bestehender Tangos. \nSole Azuls Debütalbum ”Quasi Tango” wurde am 8.2.2019 veröffentlicht und voraussichtlich 2024 wird ein neues Album erscheinen. \n”Das Trio treibt die finnische Tangotradition durch die Türen\, ohne anzuklopfen\, und hält den Zuhörer durch eine leidenschaftliche und vielschichtige Reise fest in seinem Griff.”\n(Savon Sanomat)
URL:https://www.dfg-westfalen-lippe.de/event/konzert-mit-dem-trio-sole-azul-in-buende/
LOCATION:Bünde: Tanzhaus Marks\, Borriesstr. 19-23\, Bünde\, 32257
CATEGORIES:Kultur-Event (DFG Veranstaltung)
ATTACH;FMTTYPE=image/jpeg:https://www.dfg-westfalen-lippe.de/wp-content/uploads/2024/07/Sole-Azul-2-hires-Photo_-Aarni-Toiviainen-klein.jpg
END:VEVENT
BEGIN:VEVENT
DTSTART;TZID=Europe/Berlin:20250919T100000
DTEND;TZID=Europe/Berlin:20250919T170000
DTSTAMP:20260422T043255
CREATED:20250803T162858Z
LAST-MODIFIED:20250803T162858Z
UID:605-1758276000-1758301200@www.dfg-westfalen-lippe.de
SUMMARY:Herbstliche Küche in der Schule
DESCRIPTION:Herbstliche Genüsse
URL:https://www.dfg-westfalen-lippe.de/event/herbstliche-kueche-in-der-schule/
LOCATION:Detmold\, Sprottauer Str. 9\, Sprottauer Str. 9\, Detmold\, Germany
ATTACH;FMTTYPE=:
END:VEVENT
END:VCALENDAR