BEGIN:VCALENDAR
VERSION:2.0
PRODID:-//Deutsch-Finnische Gesellschaft - Westfalen-Lippe e.V. - ECPv6.15.20//NONSGML v1.0//EN
CALSCALE:GREGORIAN
METHOD:PUBLISH
X-WR-CALNAME:Deutsch-Finnische Gesellschaft - Westfalen-Lippe e.V.
X-ORIGINAL-URL:https://www.dfg-westfalen-lippe.de
X-WR-CALDESC:Veranstaltungen für Deutsch-Finnische Gesellschaft - Westfalen-Lippe e.V.
REFRESH-INTERVAL;VALUE=DURATION:PT1H
X-Robots-Tag:noindex
X-PUBLISHED-TTL:PT1H
BEGIN:VTIMEZONE
TZID:Europe/Berlin
BEGIN:DAYLIGHT
TZOFFSETFROM:+0100
TZOFFSETTO:+0200
TZNAME:CEST
DTSTART:20240331T010000
END:DAYLIGHT
BEGIN:STANDARD
TZOFFSETFROM:+0200
TZOFFSETTO:+0100
TZNAME:CET
DTSTART:20241027T010000
END:STANDARD
BEGIN:DAYLIGHT
TZOFFSETFROM:+0100
TZOFFSETTO:+0200
TZNAME:CEST
DTSTART:20250330T010000
END:DAYLIGHT
BEGIN:STANDARD
TZOFFSETFROM:+0200
TZOFFSETTO:+0100
TZNAME:CET
DTSTART:20251026T010000
END:STANDARD
BEGIN:DAYLIGHT
TZOFFSETFROM:+0100
TZOFFSETTO:+0200
TZNAME:CEST
DTSTART:20260329T010000
END:DAYLIGHT
BEGIN:STANDARD
TZOFFSETFROM:+0200
TZOFFSETTO:+0100
TZNAME:CET
DTSTART:20261025T010000
END:STANDARD
END:VTIMEZONE
BEGIN:VEVENT
DTSTART;TZID=Europe/Berlin:20251109T170000
DTEND;TZID=Europe/Berlin:20251109T170000
DTSTAMP:20260422T010206
CREATED:20240701T183838Z
LAST-MODIFIED:20251014T144214Z
UID:480-1762707600-1762707600@www.dfg-westfalen-lippe.de
SUMMARY:Konzert mit dem Duo CIENNA in Herford
DESCRIPTION:Senni Eskelinen: elektroakustische Kantele\,\nKaisa Leskinen: Gesang \nCienna wurde im Herbst 2020 geboren\, als die Sängerin Kaisa Leskinen und die Kantele-Künstler Senni Eskelinen begannen\, als Duo neue englische Musik zu machen\, nachdem sie fast zwanzig Jahre lang in verschiedenen  Formationen zusammengespielt hatten. \nCiennas Musik ist ätherischer Pop-Folk mit einer Vorliebe für die Musik der 60er und 70er  Jahre. Eskelinens bezaubernde Fingerfertigkeit auf der Kantele in Kombination mit Leskinens\nzarter Stimme und Interpretation sorgen für ein fesselndes Musikerlebnis. Das Debütalbum  des Duos „Northeast“ erschien im Herbst 2023. \nEintritt: 12€ (DFG-Mitglieder 10€)
URL:https://www.dfg-westfalen-lippe.de/event/konzert-mit-dem-duo-cienna-in-herford/
LOCATION:Herford: Haus unter den Linden (HudL)\, Unter den Linden 12\, Herford\, 32051
CATEGORIES:Kultur-Event (DFG Veranstaltung)
ATTACH;FMTTYPE=image/jpeg:https://www.dfg-westfalen-lippe.de/wp-content/uploads/2024/07/Cienna01@Laura-Kotila.jpg
END:VEVENT
BEGIN:VEVENT
DTSTART;TZID=Europe/Berlin:20251115T000000
DTEND;TZID=Europe/Berlin:20251115T000000
DTSTAMP:20260422T010206
CREATED:20240701T184059Z
LAST-MODIFIED:20250213T184450Z
UID:484-1763164800-1763164800@www.dfg-westfalen-lippe.de
SUMMARY:Konzert mit dem Duo CIENNA bei der DFG Lippe
DESCRIPTION:Senni Eskelinen: elektroakustische Kantele\,\nKaisa Leskinen: Gesang \nCienna wurde im Herbst 2020 geboren\, als die Sängerin Kaisa Leskinen und die Kantele-Künstler Senni Eskelinen begannen\, als Duo neue englische Musik zu machen\, nachdem sie fast zwanzig Jahre lang in verschiedenen  Formationen zusammengespielt hatten. \nCiennas Musik ist ätherischer Pop-Folk mit einer Vorliebe für die Musik der 60er und 70er  Jahre. Eskelinens bezaubernde Fingerfertigkeit auf der Kantele in Kombination mit Leskinens\nzarter Stimme und Interpretation sorgen für ein fesselndes Musikerlebnis. Das Debütalbum  des Duos „Northeast“ erschien im Herbst 2023. \nDetails zur Veranstaltung folgen …
URL:https://www.dfg-westfalen-lippe.de/event/konzert-mit-dem-duo-cienna-bei-der-dfg-lippe/
LOCATION:Detmold: Kaiserkeller\, Hermannstraße 1\, Detmold\, 32756\, Germany
CATEGORIES:Kultur-Event (DFG Veranstaltung)
ATTACH;FMTTYPE=image/jpeg:https://www.dfg-westfalen-lippe.de/wp-content/uploads/2024/07/Cienna01@Laura-Kotila.jpg
END:VEVENT
END:VCALENDAR