BEGIN:VCALENDAR
VERSION:2.0
PRODID:-//Deutsch-Finnische Gesellschaft - Westfalen-Lippe e.V. - ECPv6.15.20//NONSGML v1.0//EN
CALSCALE:GREGORIAN
METHOD:PUBLISH
X-WR-CALNAME:Deutsch-Finnische Gesellschaft - Westfalen-Lippe e.V.
X-ORIGINAL-URL:https://www.dfg-westfalen-lippe.de
X-WR-CALDESC:Veranstaltungen für Deutsch-Finnische Gesellschaft - Westfalen-Lippe e.V.
REFRESH-INTERVAL;VALUE=DURATION:PT1H
X-Robots-Tag:noindex
X-PUBLISHED-TTL:PT1H
BEGIN:VTIMEZONE
TZID:Europe/Berlin
BEGIN:DAYLIGHT
TZOFFSETFROM:+0100
TZOFFSETTO:+0200
TZNAME:CEST
DTSTART:20250330T010000
END:DAYLIGHT
BEGIN:STANDARD
TZOFFSETFROM:+0200
TZOFFSETTO:+0100
TZNAME:CET
DTSTART:20251026T010000
END:STANDARD
BEGIN:DAYLIGHT
TZOFFSETFROM:+0100
TZOFFSETTO:+0200
TZNAME:CEST
DTSTART:20260329T010000
END:DAYLIGHT
BEGIN:STANDARD
TZOFFSETFROM:+0200
TZOFFSETTO:+0100
TZNAME:CET
DTSTART:20261025T010000
END:STANDARD
BEGIN:DAYLIGHT
TZOFFSETFROM:+0100
TZOFFSETTO:+0200
TZNAME:CEST
DTSTART:20270328T010000
END:DAYLIGHT
BEGIN:STANDARD
TZOFFSETFROM:+0200
TZOFFSETTO:+0100
TZNAME:CET
DTSTART:20271031T010000
END:STANDARD
END:VTIMEZONE
BEGIN:VEVENT
DTSTART;TZID=Europe/Berlin:20260607T170000
DTEND;TZID=Europe/Berlin:20260607T193000
DTSTAMP:20260421T202525
CREATED:20260102T150013Z
LAST-MODIFIED:20260215T074701Z
UID:667-1780851600-1780860600@www.dfg-westfalen-lippe.de
SUMMARY:Jazz-Konzert  SALESVUO SYNCOPATION! aka TOMI SALESVUO TRIO
DESCRIPTION:Mit SALESVUO SYNCOPATION! präsentiert der finnische Spitzen-Drummer Tomi Salesvuo ein brandneues Trio. Seine Kompagnons Petri Puolitaival am Tenorsax und Mikko Helevä an der Hammond-Orgel sind herausragende Musiker der nordeuropäischen Jazz-Szene. Salesvuo selbst hat u.a. mit Anna-Mari Kähärä\, XL oder Jim Beard und Wayne Krantz gespielt. Mit diesem Trio geht Salesvuo einen ganz anderen Weg als mit seiner weltweit gefeierten EAST FUNK ATTACK. \nSYNCOPATION! gibt schon im Namen die Richtung vor: Hier wird heftig geswingt! Dieses Trio steht einerseits in der Tradition der großen Soul Jazz- und Hard Bop-Orgeltrios von z.B. Jimmy Smith oder Barbara Dennerlein\, andererseits schnappen sich die drei auch öfters Songs aus dem „Great Finnish Songbook“ – also Hits aus Unterhaltungsmusik\, Pop oder Tango – und machen daraus Jazz. \nSalesvuo Syncopation ist ein herausragendes Jazz-Trio – hier ist ein extrem swingendes Event garantiert.
URL:https://www.dfg-westfalen-lippe.de/event/jazz-konzert-salesvuo-syncopation-aka-tomi-salesvuo-trio/
LOCATION:Vlotho: Kreuzkirche Wehrendorf\, Wehrendorfer Str. 46\, Vlotho\, 32602
CATEGORIES:Kultur-Event (DFG Veranstaltung)
ATTACH;FMTTYPE=image/jpeg:https://www.dfg-westfalen-lippe.de/wp-content/uploads/2026/01/IMG_0983kl_Salesvuo_Live-Helsinki_TKleinecke-scaled.jpg
END:VEVENT
END:VCALENDAR