BEGIN:VCALENDAR
VERSION:2.0
PRODID:-//Deutsch-Finnische Gesellschaft - Westfalen-Lippe e.V. - ECPv6.15.20//NONSGML v1.0//EN
CALSCALE:GREGORIAN
METHOD:PUBLISH
X-ORIGINAL-URL:https://www.dfg-westfalen-lippe.de
X-WR-CALDESC:Veranstaltungen für Deutsch-Finnische Gesellschaft - Westfalen-Lippe e.V.
REFRESH-INTERVAL;VALUE=DURATION:PT1H
X-Robots-Tag:noindex
X-PUBLISHED-TTL:PT1H
BEGIN:VTIMEZONE
TZID:Europe/Berlin
BEGIN:DAYLIGHT
TZOFFSETFROM:+0100
TZOFFSETTO:+0200
TZNAME:CEST
DTSTART:20250330T010000
END:DAYLIGHT
BEGIN:STANDARD
TZOFFSETFROM:+0200
TZOFFSETTO:+0100
TZNAME:CET
DTSTART:20251026T010000
END:STANDARD
BEGIN:DAYLIGHT
TZOFFSETFROM:+0100
TZOFFSETTO:+0200
TZNAME:CEST
DTSTART:20260329T010000
END:DAYLIGHT
BEGIN:STANDARD
TZOFFSETFROM:+0200
TZOFFSETTO:+0100
TZNAME:CET
DTSTART:20261025T010000
END:STANDARD
BEGIN:DAYLIGHT
TZOFFSETFROM:+0100
TZOFFSETTO:+0200
TZNAME:CEST
DTSTART:20270328T010000
END:DAYLIGHT
BEGIN:STANDARD
TZOFFSETFROM:+0200
TZOFFSETTO:+0100
TZNAME:CET
DTSTART:20271031T010000
END:STANDARD
END:VTIMEZONE
BEGIN:VEVENT
DTSTART;TZID=Europe/Berlin:20261108T000000
DTEND;TZID=Europe/Berlin:20261108T000000
DTSTAMP:20260422T051435
CREATED:20251115T132908Z
LAST-MODIFIED:20251115T133604Z
UID:638-1794096000-1794096000@www.dfg-westfalen-lippe.de
SUMMARY:DFG-Lesereise mit Martta Kaukonen
DESCRIPTION:Die Autorin\nMartta Kaukonen wurde 1976 geboren und lebt in Helsinki\, wo sie als Filmkritikerin arbeitet. Mit ihrem Debüt »Therapiert« hat sie Presse und Leser*innen gleichermaßen begeistert und schaffte auf Anhieb den Einstieg in die SPIEGEL-Bestsellerliste. Die Faszination des Bösen begleitet sie auch im Alltag. Sie liebt Psychothriller\, Film noir und verlassene Häuser.  \nDie Übersetzerin\nGabriele Schrey-Vasara wurde 1953 geboren und lebt nach einem Studium der Geschichte\, Romanistik und Finnougristik in Göttingen und Helsinki nun als Übersetzerin in Helsinki. Sie übertrug Romane von Kati Hiekkapelto\, Emmi Itäranta und Matti Rönkä ins Deutsche. 2008 wurde sie mit dem staatlichen finnischen Übersetzerpreis ausgezeichnet. \nIm Mittelpunkt der Lesereise wird die Ida-Reihe „Das Böse lauert in jedem von uns“ stehen. \nWeitere Informationen zur Veranstaltung folgen …
URL:https://www.dfg-westfalen-lippe.de/event/dfg-lesereise-mit-martta-kaukonen/
LOCATION:Bünde: Dammhaus (Museum Bünde)\, Fünfhausenstr. 8 - 12\, Bünde\, 32257
CATEGORIES:Kultur-Event (DFG Veranstaltung)
ATTACH;FMTTYPE=image/jpeg:https://www.dfg-westfalen-lippe.de/wp-content/uploads/2025/11/kaukonen-martta-35653.jpg
END:VEVENT
BEGIN:VEVENT
DTSTART;TZID=Europe/Berlin:20261110T000000
DTEND;TZID=Europe/Berlin:20261110T000000
DTSTAMP:20260422T051435
CREATED:20251115T133801Z
LAST-MODIFIED:20260102T151039Z
UID:645-1794268800-1794268800@www.dfg-westfalen-lippe.de
SUMMARY:DFG-Lesereise mit Martta Kaukkonen
DESCRIPTION:Die Autorin\nMartta Kaukonen wurde 1976 geboren und lebt in Helsinki\, wo sie als Filmkritikerin arbeitet. Mit ihrem Debüt »Therapiert« hat sie Presse und Leser*innen gleichermaßen begeistert und schaffte auf Anhieb den Einstieg in die SPIEGEL-Bestsellerliste. Die Faszination des Bösen begleitet sie auch im Alltag. Sie liebt Psychothriller\, Film noir und verlassene Häuser.  \nDie Übersetzerin\nGabriele Schrey-Vasara wurde 1953 geboren und lebt nach einem Studium der Geschichte\, Romanistik und Finnougristik in Göttingen und Helsinki nun als Übersetzerin in Helsinki. Sie übertrug Romane von Kati Hiekkapelto\, Emmi Itäranta und Matti Rönkä ins Deutsche. 2008 wurde sie mit dem staatlichen finnischen Übersetzerpreis ausgezeichnet. \nIm Mittelpunkt der Lesereise wird die Ida-Reihe „Das Böse lauert in jedem von uns“ stehen. \nWeitere Informationen zur Veranstaltung folgen …
URL:https://www.dfg-westfalen-lippe.de/event/dfg-lesereise-mit-martta-kaukkonen/
LOCATION:Detmold: VHS\, Krumme Straße 20\, Detmold\, 32756\, Germany
CATEGORIES:Kultur-Event (DFG Veranstaltung)
ATTACH;FMTTYPE=image/jpeg:https://www.dfg-westfalen-lippe.de/wp-content/uploads/2025/11/kaukonen-martta-35653.jpg
END:VEVENT
END:VCALENDAR